BEGIN:VCALENDAR
VERSION:2.0
PRODID:-//Heart Health Foundation - ECPv6.15.20//NONSGML v1.0//EN
CALSCALE:GREGORIAN
METHOD:PUBLISH
X-WR-CALNAME:Heart Health Foundation
X-ORIGINAL-URL:https://hearthealthfoundation.org
X-WR-CALDESC:Events for Heart Health Foundation
REFRESH-INTERVAL;VALUE=DURATION:PT1H
X-Robots-Tag:noindex
X-PUBLISHED-TTL:PT1H
BEGIN:VTIMEZONE
TZID:UTC
BEGIN:STANDARD
TZOFFSETFROM:+0000
TZOFFSETTO:+0000
TZNAME:UTC
DTSTART:20150101T000000
END:STANDARD
END:VTIMEZONE
BEGIN:VEVENT
DTSTART;TZID=UTC:20180210T200000
DTEND;TZID=UTC:20180210T200000
DTSTAMP:20260420T141017
CREATED:20171201T035102Z
LAST-MODIFIED:20171201T043155Z
UID:274-1518292800-1518292800@hearthealthfoundation.org
SUMMARY:6th Annual Heart Health Foundation Benefit at Rams Head On Stage
DESCRIPTION:Foreplay: A Tribute to 70’s Rock – 6th Annual Heart Health Foundation Benefit at Rams Head On Stage\nJoin us for the highlight event of Heart Heath month! Make a Valentine’s date for FOREPLAY to benefit the Heart Health Foundation and its Dare to C.A.R.E. free vascular screening program. As always\, we’ll have a few surprises you won’t want to miss! \nTickets are $42.50. Click here to purchase ticket or go to www.ramsheadonstage.com.\n\nWant to make a weekend of it? Loews Annapolis Hotel is offering a special $129 rate for guests attending the show\, subject to availability.\nTo make a reservation: call 1-800-526-2593 (ask for Foreplay Band rate); or go online: https://www.loewshotels.com/annapolis/foreplay-band \n  \nFOREPLAY – Named after the iconic instrumental piece to Boston’s Foreplay/Longtime\, this regional favorite cover band delivers the electric energy of the era. By channeling their passion for the guitar and harmony driven rock music of the 70’s\, they’ll have you rockin’ and reminiscing to the music of The Beatles\, The Eagles\, Fleetwood Mac\, Janis Joplin\, Kansas\, Led Zeppelin\, The Who and more! www.foreplayrocks.com \n 
URL:https://hearthealthfoundation.org/event/rams-head-heart-health-benefit-concert/
LOCATION:Rams Head On Stage\, 33 West Street\, Annapolis\, 21401\, United States
END:VEVENT
BEGIN:VEVENT
DTSTART;TZID=UTC:20170909T100000
DTEND;TZID=UTC:20170909T150000
DTSTAMP:20260420T141017
CREATED:20170726T225546Z
LAST-MODIFIED:20170727T012659Z
UID:1005-1504951200-1504969200@hearthealthfoundation.org
SUMMARY:Free Vascular Screening @ Mt. Jezreel Baptist Church
DESCRIPTION:Did you know that you can help prevent strokes and\nother devastating effects of heart & vascular disease?\nSign up for A FREE Vascular Screening!\n***** By Appointment Only *****\nSign up at Mount Jezreel or call 301-431-2800.\n  \nPlease note: This is a cost-free community event. No insurance information is required. \nTo be eligible you must be 50 years or older and have not\n had the Dare to. C.A.R.E. screening in the last five (5) years \n*The screening consists of a noninvasive ultrasound of your neck\, abdomen and legs. \n  \n\nClick here to download flyer.\nSee details below for location and event details.
URL:https://hearthealthfoundation.org/event/free-vascular-screening-mt-jezreel-baptist-church/
LOCATION:Mt. Jezreel Baptist Church\, 420 University Blvd East\, Silver Spring \, 20901\, United States
END:VEVENT
BEGIN:VEVENT
DTSTART;TZID=UTC:20160922T180000
DTEND;TZID=UTC:20160922T210000
DTSTAMP:20260420T141017
CREATED:20160628T001354Z
LAST-MODIFIED:20160919T212042Z
UID:927-1474567200-1474578000@hearthealthfoundation.org
SUMMARY:Crab Feast 2016
DESCRIPTION:Deadline for buying tickets is Sept. 18. NO TICKETS WILL BE SOLD AT THE DOOR.\n\nIMPORTANT:  Please bring a print out of your paypal receipt to the event as proof of payment.\nYou DO NOT need to create a Paypal account to pay. Select ‘Pay with an online bank account\, debit or credit card\, or PayPal Credit’ to input your payment directly WITHOUT an account. \n  \nCALL:    410-573-9483 x200\nEMAIL:  eferguson.hhf@verizon.net \n\nIncludes: \n\nCrabs\, Sweet BBQ\, Fried Chicken\nHot Dogs\, Sweet Corn\, Country Beans\nAssorted Salads\, Rolls/Bread\nWatermelon\, Dessert\, Beer\, Wine\, Soda\nIced Tea\, Lemonade & Coffee\n\n** RAFFLE\, CAKE WHEEL and MUSIC courtesy of Mad Planet (www.madplanetband.com)** \n>> Click here to download flier.
URL:https://hearthealthfoundation.org/event/crab-feast-2016/
LOCATION:Kurtz’s Beach\, 2070 Kurtz Ave\, Pasadena\, MD\, 21122\, United States
END:VEVENT
BEGIN:VEVENT
DTSTART;TZID=UTC:20160216T100000
DTEND;TZID=UTC:20160216T140000
DTSTAMP:20260420T141017
CREATED:20160129T144905Z
LAST-MODIFIED:20160130T165145Z
UID:895-1455616800-1455631200@hearthealthfoundation.org
SUMMARY:About Faces Day Spa & Salon:   Free vascular screening
DESCRIPTION:dare to C.A.R.E. will offer a FREE vascular ultrasound examination at:\nAbout Faces Day Spa & Salon – Annapolis \nIf you are 50 or over\, sign up at the front desk or call (410) 224-4110.
URL:https://hearthealthfoundation.org/event/about-faces-day-spa-salon-free-vascular-screening/
LOCATION:About Faces Day Spa & Salon\, 1910 Towne Center Blvd.\, Suite 203 \, Annapolis\, MD\, 21401\, United States
END:VEVENT
END:VCALENDAR